Workbook

Sheet Cover Page
A2: DETAILED PROJECT REPORT FOR
A3: TRESBIZZ
A10: Bus.Office:
A11: Address

Sheet Index
A2: ='Cover Page'!A3 -> TRESBIZZ
B4: I N D E X
A5: SL. | B5: C O N T E N T S | C5: PAGES
B7: CHAPTER :
A8: 1 | B8: PROJECT AT GLANCE
A9: 2 | B9: COST OF THE PROJECT AND MEANS OF FINANCE
A10: 3 | B10: PROJECTIONS AND PROFITABILITY STATEMENT
A11: 4 | B11: FUND - FLOW STATEMENT
A12: 5 | B12: BALANCE SHEET
B14: A N N E X U R E S
A15: 1 | B15: DEPRECIATION SCHEDULE
A16: 2 | B16: BREAK EVEN ANALYSIS
A17: 3 | B17: ANALYSIS ON RETURN ON INVESTMENT
A18: 4 | B18: ASSUMPTION AND WORKING NOTES

Sheet PROJECT AT GLANCE
A1: =Index!A2 -> TRESBIZZ
A2: CHAPTER NO. 1
A3: PROJECT AT GLANCE :
A4: 1 | B4: Name | C4: : | D4: ='Cover Page'!A3 -> TRESBIZZ
A5: 2 | B5: Address | C5: : | D5: Reg.Office:
D6: ='Cover Page'!A11 -> Address
D7: ='Cover Page'!A12 -> 0
D8: ='Cover Page'!A13 -> 0
A11: 3 | B11: Nature of Business | C11: : | D11: SOFTWARE SERVICES
A13: 4 | B13: Constitution | C13: : | D13: COMPANY
C14: :
A17: 5 | B17: Cost of the project | C17: : | E17: ($)
B18: Particulars | E18: Total
B19: Initial Cost inccured | E19: 3400000
B20: Software Developmnet | E20: 5000000
B21: Research & development | E21: 5000000 | F21: After initial earnings can additional investment can be considered or, generated income can be step by step invested
B22: Set up Cost | E22: 500000 | F22: Will be considered by founder step by step investment
B23: Brand Registration | E23: 600000 | F23: Will be during Go Live with re-occurring earnings invested
B24: Total | E24: =SUM(E19:E23) -> 14500000
B26: Means of Finance | C26: :
B27: Particulars | E27: Total
B28: Equity Shareholding:-
B29: Strategic Investment | E29: =E24 -> 14500000
B31: Total | E31: =E28+E29 -> 14500000
B33: Valuation Criteria
B34: Particulars | E34: Total
B40: Total | E40: =SUM(E35:E39) -> 0
A44: 6 | B44: Gross Profit Ratio | C44: : | E44: =(profit!B49/profit!B10)*100 -> 37.255556
A45: 7 | B45: Net Profit Ratio | C45: : | E45: =E44 -> 37.255556
A46: 8 | B46: Employment Potential | C46: : | E46: 225 | F46: First Year Operation.
A47: 9 | B47: Return on Investment | C47: : | E47: =(profit!B57/'PROJECT AT GLANCE'!E24)*100 -> 12.419828 | F47: First Year Operation.

Sheet Cost
A1: ='PROJECT AT GLANCE'!D4 -> TRESBIZZ
A7: STATEMENT NO. 1
A9: COST OF THE PROJECT AND MEANS OF FINANCE:
A11: The project cost has been estimated at Rs. | C11: =C22 -> 14500000
A13: Brief details of the project cost is given below
A15: Cost of the project | B15: : | C15: ($)
A16: Particulars | C16: Total
A17: ='PROJECT AT GLANCE'!B19 -> Initial Cost inccured | C17: ='PROJECT AT GLANCE'!E19 -> 3400000 | D17: Already invested
A18: ='PROJECT AT GLANCE'!B20 -> Software Developmnet | C18: ='PROJECT AT GLANCE'!E20 -> 5000000
A19: ='PROJECT AT GLANCE'!B21 -> Research & development | C19: ='PROJECT AT GLANCE'!E21 -> 5000000 | D19: $ 1.5M investments required. Rest will be via GOV funds and Loans feasible
A20: ='PROJECT AT GLANCE'!B22 -> Set up Cost | C20: ='PROJECT AT GLANCE'!E22 -> 500000 | D20: This will be step by step long term investment
A21: ='PROJECT AT GLANCE'!B23 -> Brand Registration | C21: ='PROJECT AT GLANCE'!E23 -> 600000 | D21: This will be step by step long term investment, Estimated for global costs Brand & Logo registration and several regions including legal fees
A22: Total | C22: =SUM(C17:C21) -> 14500000
A24: Means of Finance | B24: :
A25: Particulars | C25: Total
A26: ='PROJECT AT GLANCE'!B28 -> Equity Shareholding:- | C26: 3400000
A27: ='PROJECT AT GLANCE'!B29 -> Strategic Investment | C27: 11100000 | D27: Approach for direct clarification and breakdown
A28: Total | C28: =C22 -> 14500000

Sheet profit
A1: ='Fund flow'!A1 -> TRESBIZZ | W1: MARKET SIZE | Y1: 5.4Billion
A2: STATEMENT NO.2 | W2: AFTER 3 YEARS | Y2: 0.25
A3: PROJECTIONS AND PROFITABILITY STATEMENT | F3: In Dollars | W3: AFTER 5 YEARS | Y3: 0.35
A4: PARTICULARS | B4: Operating years
B5: 1 | C5: 2 | D5: 3 | E5: 4 | F5: 5 | U5: SELL PRICE | W5: DOLLARS
A6: A.INCOME: | Q6: LIFETIME | S6: 5-8 YEARS | U6: 350 | V6: 250 | W6: 120 | X6: =W6+V6+U6 -> 720 | Y6: =X6/3 -> 240
A8: Online Sales | B8: 3750000 | C8: 18000000 | D8: 65000000 | E8: 250000000 | F8: 600000000 | G8: <== Check the inserted comments
A9: Offline Direct Sales OEM partners | B9: 750000 | C9: 10000000 | D9: 25000000 | E9: 75000000 | F9: 200000000
A10: Total Sales | B10: 4500000 | C10: =SUM(C8:C9) -> 28000000 | D10: =SUM(D8:D9) -> 90000000 | E10: =SUM(E8:E9) -> 325000000 | F10: =SUM(F8:F9) -> 800000000 | U10: C-ULTIMATE | V10: B-PRO | W10: A- ENTRY
S11: MARKET | U11: 0.15 | V11: 0.6 | W11: 0.25
A12: B. EXPENSES:
A14: Salary Expenses:-
A15: Indian Branch | B15: 750000 | C15: 1750000 | D15: =C15*1.25 -> 2187500 | E15: =D15*1.25 -> 2734375 | F15: =E15*1.25 -> 3417968.8
A16: Dubai Branch | B16: 200000 | C16: =B16*1.5 -> 300000 | D16: =C16*1.25 -> 375000 | E16: =D16*1.25 -> 468750 | F16: =E16*1.25 -> 585937.5
A17: Netherlands Branch | B17: =B16*0.6 -> 120000 | C17: =C16*0.6 -> 180000 | D17: =D16*0.6 -> 225000 | E17: =E16*0.6 -> 281250 | F17: =F16*0.6 -> 351562.5
A19: Research & Developemnet Expenses:- | B19: 750000 | C19: =B19*1.5 -> 1125000 | D19: =C19*1.25 -> 1406250 | E19: =D19*1.25 -> 1757812.5 | F19: =E19*1.25 -> 2197265.6
A21: Sales & Marketing Expenses:- | B21: 75000 | C21: =B21*1.5 -> 112500 | D21: =C21*1.25 -> 140625 | E21: =D21*1.25 -> 175781.25 | F21: =E21*1.25 -> 219726.56
A23: Rent Expenses:- | Q23: =(#REF!-#REF!)/#REF! -> #REF! | R23: =(#REF!-#REF!)/#REF! -> #REF! | S23: YEAR | U23: 1 | V23: 2 | W23: 3 | X23: 4 | Y23: 5
A24: Indian Branch | B24: 100000 | C24: =B24*1.5 -> 150000 | D24: =C24*1.25 -> 187500 | E24: =D24*1.25 -> 234375 | F24: =E24*1.25 -> 292968.75
A25: Dubai Branch | B25: 100000 | C25: =B25*1.5 -> 150000 | D25: =C25*1.25 -> 187500 | E25: =D25*1.25 -> 234375 | F25: =E25*1.25 -> 292968.75
A26: Netherlands Branch | B26: 50000 | C26: =B26*1.5 -> 75000 | D26: =C26*1.25 -> 93750 | E26: =D26*1.25 -> 117187.5 | F26: =E26*1.25 -> 146484.38
A27: Electricity Expenses:- | S27: TOTAL REVENUE ESTIMATED | U27: =55*0.5% -> 0.275 | V27: =55*0.1 -> 5.5 | W27: =55*0.25 -> 13.75 | X27: =55*0.285 -> 15.675 | Y27: =55*0.35 -> 19.25
A28: Indian Branch | B28: 10000 | C28: =B28*1.5 -> 15000 | D28: =C28*1.25 -> 18750 | E28: =D28*1.25 -> 23437.5 | F28: =E28*1.25 -> 29296.875
A29: Dubai Branch | B29: 10000 | C29: =B29*1.5 -> 15000 | D29: =C29*1.25 -> 18750 | E29: =D29*1.25 -> 23437.5 | F29: =E29*1.25 -> 29296.875
A30: Netherlands Branch | B30: =B29*0.6 -> 6000 | C30: =B30*1.5 -> 9000 | D30: =C30*1.25 -> 11250 | E30: =D30*1.25 -> 14062.5 | F30: =E30*1.25 -> 17578.125
A31: Traveling Expenses:- | S31: A | U31: =U27*0.25 -> 0.06875 | V31: =V27*0.25 -> 1.375 | W31: =W27*0.25 -> 3.4375 | X31: =X27*0.25 -> 3.91875 | Y31: =Y27*0.25 -> 4.8125
A32: Indian Branch | B32: 0 | C32: =B32*1.5 -> 0 | D32: =C32*1.25 -> 0 | E32: =D32*1.25 -> 0 | F32: =E32*1.25 -> 0
A33: Dubai Branch | B33: 25000 | C33: =B33*1.5 -> 37500 | D33: =C33*1.25 -> 46875 | E33: =D33*1.25 -> 58593.75 | F33: =E33*1.25 -> 73242.188
A34: Netherlands Branch | B34: 5000 | C34: =B34*1.5 -> 7500 | D34: =C34*1.25 -> 9375 | E34: =D34*1.25 -> 11718.75 | F34: =E34*1.25 -> 14648.438
A35: Telephone & Internet Charges:-
A36: Indian Branch | B36: 10000 | C36: =B36*1.5 -> 15000 | D36: =C36*1.25 -> 18750 | E36: =D36*1.25 -> 23437.5 | F36: =E36*1.25 -> 29296.875
A37: Dubai Branch | B37: 7500 | C37: =B37*1.5 -> 11250 | D37: =C37*1.25 -> 14062.5 | E37: =D37*1.25 -> 17578.125 | F37: =E37*1.25 -> 21972.656
A38: Netherlands Branch | B38: =B37*0.6 -> 4500 | C38: =B38*1.5 -> 6750 | D38: =C38*1.25 -> 8437.5 | E38: =D38*1.25 -> 10546.875 | F38: =E38*1.25 -> 13183.594
A39: Office & Miscellenious Expenses
A40: Indian Branch | B40: 25000 | C40: =B40*1.5 -> 37500 | D40: =C40*1.25 -> 46875 | E40: =D40*1.25 -> 58593.75 | F40: =E40*1.25 -> 73242.188
A41: Dubai Branch | B41: =B40*0.8 -> 20000 | C41: =B41*1.5 -> 30000 | D41: =C41*1.25 -> 37500 | E41: =D41*1.25 -> 46875 | F41: =E41*1.25 -> 58593.75
A42: Netherlands Branch | B42: =B41*0.6 -> 12000 | C42: =B42*1.5 -> 18000 | D42: =C42*1.25 -> 22500 | E42: =D42*1.25 -> 28125 | F42: =E42*1.25 -> 35156.25
A44: Depreciation Expense:- | B44: =Depr.!B46 -> 543500 | C44: =B44*1.5 -> 815250 | D44: =C44*1.25 -> 1019062.5 | E44: =D44*1.25 -> 1273828.1 | F44: =E44*1.25 -> 1592285.2
S45: B | U45: =U27*0.6 -> 0.165 | V45: =V27*0.6 -> 3.3 | W45: =W27*0.6 -> 8.25 | X45: =X27*0.6 -> 9.405 | Y45: =Y27*0.6 -> 11.55
A46: Cost of Operations | B46: =SUM(B14:B42) -> 2280000 | C46: =SUM(C14:C42) -> 4045000 | D46: =SUM(D14:D42) -> 5056250 | E46: =SUM(E14:E42) -> 6320312.5 | F46: =SUM(F14:F42) -> 7900390.6 | S46: C | U46: =U27*0.15 -> 0.04125 | V46: =V27*0.15 -> 0.825 | W46: =W27*0.15 -> 2.0625 | X46: =X27*0.15 -> 2.35125 | Y46: =Y27*0.15 -> 2.8875
...

Sheet EXPENSES
B1: =profit!A1 -> TRESBIZZ
B2: STATEMENT NO. 3
B3: EXPENSES
G5: In Dollars
B6: PARTICULARS | C6: 1 | D6: 2 | E6: 3 | F6: 4 | G6: 5
B7: B. EXPENSES:
I8: If the growth will be more expenential then forecasted
B9: Salary Expenses:- | I9: Then accordingly the expenses and depreciations will be also accordingly adjusted
B10: Indian Branch | C10: 750000 | D10: 1750000 | E10: =D10*1.25 -> 2187500 | F10: =E10*1.25 -> 2734375 | G10: =F10*1.25 -> 3417968.8
B11: Dubai Branch | C11: 200000 | D11: =C11*1.5 -> 300000 | E11: =D11*1.25 -> 375000 | F11: =E11*1.25 -> 468750 | G11: =F11*1.25 -> 585937.5
B12: Netherlands Branch | C12: =C11*0.6 -> 120000 | D12: =D11*0.6 -> 180000 | E12: =E11*0.6 -> 225000 | F12: =F11*0.6 -> 281250 | G12: =G11*0.6 -> 351562.5
B14: Research & Developemnet Expenses:- | C14: 750000 | D14: =C14*1.5 -> 1125000 | E14: =D14*1.25 -> 1406250 | F14: =E14*1.25 -> 1757812.5 | G14: =F14*1.25 -> 2197265.6
B16: Sales & Marketing Expenses:- | C16: 75000 | D16: =C16*1.5 -> 112500 | E16: =D16*1.25 -> 140625 | F16: =E16*1.25 -> 175781.25 | G16: =F16*1.25 -> 219726.56
B18: Rent Expenses:-
B19: Indian Branch | C19: 100000 | D19: =C19*1.5 -> 150000 | E19: =D19*1.25 -> 187500 | F19: =E19*1.25 -> 234375 | G19: =F19*1.25 -> 292968.75
B20: Dubai Branch | C20: 100000 | D20: =C20*1.5 -> 150000 | E20: =D20*1.25 -> 187500 | F20: =E20*1.25 -> 234375 | G20: =F20*1.25 -> 292968.75
B21: Netherlands Branch | C21: 50000 | D21: =C21*1.5 -> 75000 | E21: =D21*1.25 -> 93750 | F21: =E21*1.25 -> 117187.5 | G21: =F21*1.25 -> 146484.38
B22: Electricity Expenses:-
B23: Indian Branch | C23: 10000 | D23: =C23*1.5 -> 15000 | E23: =D23*1.25 -> 18750 | F23: =E23*1.25 -> 23437.5 | G23: =F23*1.25 -> 29296.875
B24: Dubai Branch | C24: 10000 | D24: =C24*1.5 -> 15000 | E24: =D24*1.25 -> 18750 | F24: =E24*1.25 -> 23437.5 | G24: =F24*1.25 -> 29296.875
B25: Netherlands Branch | C25: =C24*0.6 -> 6000 | D25: =C25*1.5 -> 9000 | E25: =D25*1.25 -> 11250 | F25: =E25*1.25 -> 14062.5 | G25: =F25*1.25 -> 17578.125
B26: Traveling Expenses:-
B27: Indian Branch | C27: 0 | D27: =C27*1.5 -> 0 | E27: =D27*1.25 -> 0 | F27: =E27*1.25 -> 0 | G27: =F27*1.25 -> 0
B28: Dubai Branch | C28: 25000 | D28: =C28*1.5 -> 37500 | E28: =D28*1.25 -> 46875 | F28: =E28*1.25 -> 58593.75 | G28: =F28*1.25 -> 73242.188
B29: Netherlands Branch | C29: 5000 | D29: =C29*1.5 -> 7500 | E29: =D29*1.25 -> 9375 | F29: =E29*1.25 -> 11718.75 | G29: =F29*1.25 -> 14648.438
B30: Telephone & Internet Charges:-
B31: Indian Branch | C31: 10000 | D31: =C31*1.5 -> 15000 | E31: =D31*1.25 -> 18750 | F31: =E31*1.25 -> 23437.5 | G31: =F31*1.25 -> 29296.875
B32: Dubai Branch | C32: 7500 | D32: =C32*1.5 -> 11250 | E32: =D32*1.25 -> 14062.5 | F32: =E32*1.25 -> 17578.125 | G32: =F32*1.25 -> 21972.656
B33: Netherlands Branch | C33: =C32*0.6 -> 4500 | D33: =C33*1.5 -> 6750 | E33: =D33*1.25 -> 8437.5 | F33: =E33*1.25 -> 10546.875 | G33: =F33*1.25 -> 13183.594
B34: Office & Miscellenious Expenses
B35: Indian Branch | C35: 25000 | D35: =C35*1.5 -> 37500 | E35: =D35*1.25 -> 46875 | F35: =E35*1.25 -> 58593.75 | G35: =F35*1.25 -> 73242.188
B36: Dubai Branch | C36: =C35*0.8 -> 20000 | D36: =C36*1.5 -> 30000 | E36: =D36*1.25 -> 37500 | F36: =E36*1.25 -> 46875 | G36: =F36*1.25 -> 58593.75
B37: Netherlands Branch | C37: =C36*0.6 -> 12000 | D37: =C37*1.5 -> 18000 | E37: =D37*1.25 -> 22500 | F37: =E37*1.25 -> 28125 | G37: =F37*1.25 -> 35156.25
B39: Depreciation Expense:- | C39: =Depr.!C41 -> 0 | D39: =C39*1.5 -> 0 | E39: =D39*1.25 -> 0 | F39: =E39*1.25 -> 0 | G39: =F39*1.25 -> 0
B41: Cost of Operations | C41: =SUM(C9:C37) -> 2280000 | D41: =SUM(D9:D37) -> 4045000 | E41: =SUM(E9:E37) -> 5056250 | F41: =SUM(F9:F37) -> 6320312.5 | G41: =SUM(G9:G37) -> 7900390.6
C51: 1

Sheet Depr.
A1: =Cost!A1 -> TRESBIZZ
A7: ANNEXURE NO.1
A9: DEPRECIATION SCHEDULE: | F9: In Dollars
A10: PARTICULARS | B10: Years | H10: FIXED ASSETS
B11: 1 | C11: 2 | D11: 3 | E11: 4 | F11: 5 | H11: COMPUTERS & EQUPMENTS | L11: 250000
A12: 1. Computer & Equipments:- | H12: HARDWARE TESTING EQUIPMENTS | L12: 2
A13: Indian Branch | B13: =L11 -> 250000 | C13: =B21 -> 212500 | D13: =C21 -> 180625 | E13: =D21 -> 153531.25 | F13: =E21 -> 130501.56
A14: Dubai Branch | B14: 125000 | C14: =B22 -> 106250 | D14: =C22 -> 90312.5 | E14: =D22 -> 76765.625 | F14: =E22 -> 65250.781
A15: Netherlands Branch | B15: =B14*0.6 -> 75000 | C15: =B23 -> 63750 | D15: =C23 -> 54187.5 | E15: =D23 -> 46059.375 | F15: =E23 -> 39150.469
A16: Depreciation @ 15% | H16: INCLUDING 3RD PARTY SOFTWARES
A17: Indian Branch | B17: =B13*0.15 -> 37500 | C17: =C13*0.15 -> 31875 | D17: =D13*0.15 -> 27093.75 | E17: =E13*0.15 -> 23029.688 | F17: =F13*0.15 -> 19575.234
A18: Dubai Branch | B18: =B14*0.15 -> 18750 | C18: =C14*0.15 -> 15937.5 | D18: =D14*0.15 -> 13546.875 | E18: =E14*0.15 -> 11514.844 | F18: =F14*0.15 -> 9787.6172
A19: Netherlands Branch | B19: =B15*0.15 -> 11250 | C19: =C15*0.15 -> 9562.5 | D19: =D15*0.15 -> 8128.125 | E19: =E15*0.15 -> 6908.9062 | F19: =F15*0.15 -> 5872.5703
A20: WDV
A21: Indian Branch | B21: =B13-B17 -> 212500 | C21: =C13-C17 -> 180625 | D21: =D13-D17 -> 153531.25 | E21: =E13-E17 -> 130501.56 | F21: =F13-F17 -> 110926.33
A22: Dubai Branch | B22: =B14-B18 -> 106250 | C22: =C14-C18 -> 90312.5 | D22: =D14-D18 -> 76765.625 | E22: =E14-E18 -> 65250.781 | F22: =F14-F18 -> 55463.164
A23: Netherlands Branch | B23: =B15-B19 -> 63750 | C23: =C15-C19 -> 54187.5 | D23: =D15-D19 -> 46059.375 | E23: =E15-E19 -> 39150.469 | F23: =F15-F19 -> 33277.898 | H23: (millions)
H24: FURNITURE & FITTINGS | L24: 100000
A25: 2. Furniture &Fittings
A26: Indian Branch | B26: 100000 | C26: =B34 -> 90000 | D26: =C34 -> 76500 | E26: =D34 -> 65025 | F26: =E34 -> 55271.25
A27: Dubai Branch | B27: =B26 -> 100000 | C27: =B35 -> 90000 | D27: =C35 -> 76500 | E27: =D35 -> 65025 | F27: =E35 -> 55271.25
A28: Netherlands Branch | B28: =B27*0.6 -> 60000 | C28: =B36 -> 54000 | D28: =C36 -> 45900 | E28: =D36 -> 39015 | F28: =E36 -> 33162.75
A29: Depreciation @ 10%
A30: Indian Branch | B30: =B26*0.1 -> 10000 | C30: =C26*0.15 -> 13500 | D30: =D26*0.15 -> 11475 | E30: =E26*0.15 -> 9753.75 | F30: =F26*0.15 -> 8290.6875
A31: Dubai Branch | B31: =B27*0.1 -> 10000 | C31: =C27*0.15 -> 13500 | D31: =D27*0.15 -> 11475 | E31: =E27*0.15 -> 9753.75 | F31: =F27*0.15 -> 8290.6875
A32: Netherlands Branch | B32: =B28*0.1 -> 6000 | C32: =C28*0.15 -> 8100 | D32: =D28*0.15 -> 6885 | E32: =E28*0.15 -> 5852.25 | F32: =F28*0.15 -> 4974.4125
A33: WDV
A34: Indian Branch | B34: =B26-B30 -> 90000 | C34: =C26-C30 -> 76500 | D34: =D26-D30 -> 65025 | E34: =E26-E30 -> 55271.25 | F34: =F26-F30 -> 46980.562
A35: Dubai Branch | B35: =B27-B31 -> 90000 | C35: =C27-C31 -> 76500 | D35: =D27-D31 -> 65025 | E35: =E27-E31 -> 55271.25 | F35: =F27-F31 -> 46980.562
A36: Netherlands Branch | B36: =B28-B32 -> 54000 | C36: =C28-C32 -> 45900 | D36: =D28-D32 -> 39015 | E36: =E28-E32 -> 33162.75 | F36: =F28-F32 -> 28188.338
A38: 3.Hardware Testing Equipments | B38: 2000000 | C38: =B40 -> 1700000 | D38: =C40 -> 1445000 | E38: =D40 -> 1228250 | F38: =E40 -> 1044012.5
A39: Depreciation @ 15% | B39: =B38*0.15 -> 300000 | C39: =C38*0.15 -> 255000 | D39: =D38*0.15 -> 216750 | E39: =E38*0.15 -> 184237.5 | F39: =F38*0.15 -> 156601.88
A40: WDV | B40: =B38-B39 -> 1700000 | C40: =C38-C39 -> 1445000 | D40: =D38-D39 -> 1228250 | E40: =E38-E39 -> 1044012.5 | F40: =F38-F39 -> 887410.62
A42: 4.Brand Registration Copy Right patent | B42: ='PROJECT AT GLANCE'!E23 -> 600000 | C42: =B44 -> 450000 | D42: =C44 -> 337500 | E42: =D44 -> 253125 | F42: =E44 -> 189843.75
A43: Depreciation @ 25% | B43: =B42*0.25 -> 150000 | C43: =C42*0.25 -> 112500 | D43: =D42*0.25 -> 84375 | E43: =E42*0.25 -> 63281.25 | F43: =F42*0.25 -> 47460.938
A44: WDV | B44: =B42-B43 -> 450000 | C44: =C42-C43 -> 337500 | D44: =D42-D43 -> 253125 | E44: =E42-E43 -> 189843.75 | F44: =F42-F43 -> 142382.81
A46: Total Depreciation | B46: =B39+B32+B31+B30+B19+B18+B17+B43 -> 543500 | C46: =C39+C32+C31+C30+C19+C18+C17+C43 -> 459975 | D46: =D39+D32+D31+D30+D19+D18+D17+D43 -> 379728.75 | E46: =E39+E32+E31+E30+E19+E18+E17+E43 -> 314331.94 | F46: =F39+F32+F31+F30+F19+F18+F17+F43 -> 260854.02
A47: [1+2+3+4]
A49: Totals Assets | B49: =B38+B28+B27+B26+B15+B14+B13+B42 -> 3310000 | C49: =C38+C28+C27+C26+C15+C14+C13+C42 -> 2766500 | D49: =D38+D28+D27+D26+D15+D14+D13+D42 -> 2306525 | E49: =E38+E28+E27+E26+E15+E14+E13+E42 -> 1926796.2 | F49: =F38+F28+F27+F26+F15+F14+F13+F42 -> 1612464.3
A50: [1+2+3+4]

Sheet Fund flow
A1: =B.sheet!A1 -> TRESBIZZ
A2: STATEMENT No.4
A4: FUND - FLOW STATEMENT :
A5: (A HDPE/PP Fabrics Project) | G5: In Dollars
A6: PARTICULARS | C6: Operating Years
B7: 0 | C7: 1 | D7: 2 | E7: 3 | F7: 4 | G7: 5
A8: A. Source of Funds :
A9: Profit after Tax | B9: 0 | C9: =profit!B53 -> 1257375 | D9: =+profit!C53 -> 17354812 | E9: =+profit!D53 -> 62943516 | F9: =+profit!E53 -> 2.3805439e+08 | G9: =+profit!F53 -> 5.9288049e+08
A10: Depreciation | B10: 0 | C10: =Depr.!B46 -> 543500 | D10: =Depr.!C46 -> 459975 | E10: =Depr.!D46 -> 379728.75 | F10: =Depr.!E46 -> 314331.94 | G10: =Depr.!F46 -> 260854.02
A11: Equity Contribution | B11: ='PROJECT AT GLANCE'!E31+100000 -> 14600000 | C11: 0 | D11: 0 | E11: - | F11: -
A12: TOTAL OF ' A ' | B12: =SUM(B9:B11) -> 14600000 | C12: =SUM(C9:C11) -> 1800875 | D12: =SUM(D9:D11) -> 17814788 | E12: =SUM(E9:E11) -> 63323244 | F12: =SUM(F9:F11) -> 2.3836873e+08 | G12: =SUM(G9:G11) -> 5.9314135e+08
A14: B. Application of Funds :
A15: =Depr.!A12 -> 1. Computer & Equipments:- | B15: 450000 | C15: 0 | D15: 0 | E15: 0 | F15: 0 | G15: 0
A16: =Depr.!A25 -> 2. Furniture &Fittings | B16: 260000 | C16: 0 | D16: 0 | E16: 0 | F16: 0 | G16: 0
A17: =Depr.!A38 -> 3.Hardware Testing Equipments | B17: 2000000 | C17: 0 | D17: 0 | E17: 0 | F17: 0 | G17: 0
A18: 4.Brand Registeration | B18: =Depr.!B42 -> 600000 | C18: 0 | D18: 0 | E18: 0 | F18: 0 | G18: 0
A19: TOTAL OF ' B ' | B19: =SUM(B15:B18) -> 3310000 | C19: =SUM(C15:C18) -> 0 | D19: =SUM(D15:D18) -> 0 | E19: =SUM(E15:E18) -> 0 | F19: =SUM(F15:F18) -> 0 | G19: =SUM(G15:G18) -> 0
A22: C. Opening Balance | B22: 0 | C22: =B26 -> 11290000 | D22: =C26 -> 13090875 | E22: =D26 -> 30905662 | F22: =E26 -> 94228907 | G22: =F26 -> 3.3259763e+08
A24: D. Net surplus ( A - B ) | B24: =B12-B19 -> 11290000 | C24: =C12-C19 -> 1800875 | D24: =D12-D19 -> 17814788 | E24: =E12-E19 -> 63323244 | F24: =F12-F19 -> 2.3836873e+08 | G24: =G12-G19 -> 5.9314135e+08
A26: E. Closing Balance | B26: =B22+B24 -> 11290000 | C26: =C22+C24 -> 13090875 | D26: =D22+D24 -> 30905662 | E26: =E22+E24 -> 94228907 | F26: =F22+F24 -> 3.3259763e+08 | G26: =G22+G24 -> 9.2573898e+08

Sheet B.sheet
A1: =Depr.!A1 -> TRESBIZZ
A2: STATEMENT No.5
A4: BALANCE SHEET
G5: In Dollars
A6: PARTICULARS | B6: Operating Years
B7: 0 | C7: 1 | D7: 2 | E7: 3 | F7: 4 | G7: 5
A9: A. EQUITY & LIABILITIES :
A10: Shareholders Fund
A11: Share Capital | B11: 100000 | C11: =B11 -> 100000 | D11: =C11 -> 100000 | E11: =D11 -> 100000 | F11: =E11 -> 100000 | G11: =F11 -> 100000
A12: Reserve & Surplus | B12: ='PROJECT AT GLANCE'!E24 -> 14500000 | C12: =B12+profit!B53 -> 15757375 | D12: =C12+profit!C53 -> 33112188 | E12: =D12+profit!D53 -> 96055703 | F12: =E12+profit!E53 -> 3.341101e+08 | G12: =F12+profit!F53 -> 9.2699059e+08 | H12: =H33 -> 0
A14: Non Current Liablities | B14: - | C14: - | D14: - | E14: - | F14: - | G14: -
A15: Current Liablities | B15: - | C15: - | D15: - | E15: - | F15: - | G15: -
D16: - | E16: - | F16: - | G16: -
A17: TOTAL | B17: =SUM(B10:B15) -> 14600000 | C17: =SUM(C10:C15) -> 15857375 | D17: =SUM(D10:D15) -> 33212188 | E17: =SUM(E10:E15) -> 96155703 | F17: =SUM(F10:F15) -> 3.342101e+08 | G17: =SUM(G10:G15) -> 9.2709059e+08
A20: B. ASSETS :
A21: Non Current Assets | B21: ='Fund flow'!B15+'Fund flow'!B16+'Fund flow'!B17+'Fund flow'!B18 -> 3310000 | C21: =Depr.!B21+Depr.!B22+Depr.!B23+Depr.!B34+Depr.!B35+Depr.!B36+Depr.!B40+Depr.!B44 -> 2766500 | D21: =Depr.!C21+Depr.!C22+Depr.!C23+Depr.!C34+Depr.!C35+Depr.!C36+Depr.!C40+Depr.!C44 -> 2306525 | E21: =Depr.!D21+Depr.!D22+Depr.!D23+Depr.!D34+Depr.!D35+Depr.!D36+Depr.!D40+Depr.!D44 -> 1926796.2 | F21: =Depr.!E21+Depr.!E22+Depr.!E23+Depr.!E34+Depr.!E35+Depr.!E36+Depr.!E40+Depr.!E44 -> 1612464.3 | G21: =Depr.!F21+Depr.!F22+Depr.!F23+Depr.!F34+Depr.!F35+Depr.!F36+Depr.!F40+Depr.!F44 -> 1351610.3
A22: Current Assets
A23: Cash & Bank | B23: =100000+'PROJECT AT GLANCE'!E20+'PROJECT AT GLANCE'!E21+'PROJECT AT GLANCE'!E23 -> 10700000 | C23: =B23+'Fund flow'!C9+'Fund flow'!C10 -> 12500875 | D23: =C23+'Fund flow'!D9+'Fund flow'!D10 -> 30315662 | E23: =D23+'Fund flow'!E9+'Fund flow'!E10 -> 93638907 | F23: =E23+'Fund flow'!F9+'Fund flow'!F10 -> 3.3200763e+08 | G23: =F23+'Fund flow'!G9+'Fund flow'!G10 -> 9.2514898e+08
A24: TOTAL | B24: =SUM(B21:B23) -> 14010000 | C24: =SUM(C21:C23) -> 15267375 | D24: =SUM(D21:D23) -> 32622188 | E24: =SUM(E21:E23) -> 95565703 | F24: =SUM(F21:F23) -> 3.336201e+08 | G24: =SUM(G21:G23) -> 9.2650059e+08
B26: =B24-B17 -> -590000 | C26: =C24-C17 -> -590000 | D26: =D24-D17 -> -590000 | E26: =E24-E17 -> -590000 | F26: =F24-F17 -> -590000 | G26: =G24-G17 -> -590000

Sheet BEP
A1: =Depr.!A1 -> TRESBIZZ
A2: ANNEXURE NO.2
A4: BREAK-EVEN ANALYSIS | F4: In Dollars
A5: (A HDPE/PP Fabrics Project) | B5: Years
B6: 1 | C6: 2 | D6: 3 | E6: 4 | F6: 5
A7: Receipts | B7: =profit!B10 -> 4500000 | C7: =profit!C9 -> 10000000 | D7: =profit!D9 -> 25000000 | E7: =profit!E10 -> 325000000 | F7: =profit!F10 -> 800000000
A9: Variable cost: | B9: =EXPENSES!C37-EXPENSES!C17-EXPENSES!C18-EXPENSES!C19 -> -88000 | C9: =EXPENSES!D37-EXPENSES!D17-EXPENSES!D18-EXPENSES!D19 -> -132000 | D9: =EXPENSES!E37-EXPENSES!E17-EXPENSES!E18-EXPENSES!E19 -> -165000 | E9: =EXPENSES!F37-EXPENSES!F17-EXPENSES!F18-EXPENSES!F19 -> -206250 | F9: =EXPENSES!G37-EXPENSES!G17-EXPENSES!G18-EXPENSES!G19 -> -257812.5
B10: =profit!B23-EXPENSES!D16 -> -112500 | C10: =profit!C23-EXPENSES!E16 -> -140625 | D10: =profit!D23-EXPENSES!F16 -> -175781.25 | E10: =profit!E23-EXPENSES!G16 -> -219726.56
A12: Fixed costs:
A13: Depreciation | B13: =EXPENSES!C39 -> 0 | C13: =EXPENSES!D39 -> 0 | D13: =EXPENSES!E39 -> 0 | E13: =EXPENSES!F39 -> 0 | F13: =EXPENSES!G39 -> 0
A14: Rent Expense | B14: =EXPENSES!C17+EXPENSES!C18+EXPENSES!C19 -> 100000 | C14: =EXPENSES!D17+EXPENSES!D18+EXPENSES!D19 -> 150000 | D14: =EXPENSES!E17+EXPENSES!E18+EXPENSES!E19 -> 187500 | E14: =EXPENSES!F17+EXPENSES!F18+EXPENSES!F19 -> 234375 | F14: =EXPENSES!G17+EXPENSES!G18+EXPENSES!G19 -> 292968.75
B15: =EXPENSES!D16 -> 112500 | C15: =EXPENSES!E16 -> 140625 | D15: =EXPENSES!F16 -> 175781.25 | E15: =EXPENSES!G16 -> 219726.56
A16: Contribution | B16: =B7-B9 -> 4588000 | C16: =C7-C9 -> 10132000 | D16: =D7-D9 -> 25165000 | E16: =E7-E9 -> 325206250 | F16: =F7-F9 -> 8.0025781e+08
A18: P.V.Ratio [ E/B x 100 ] | B18: =(B16/B7)*100 -> 101.95556 | C18: =(C16/C7)*100 -> 101.32 | D18: =(D16/D7)*100 -> 100.66 | E18: =(E16/E7)*100 -> 100.06346 | F18: =(F16/F7)*100 -> 100.03223
A20: Break - even [ Value ] | B20: =((B14+B13)/B16)*100 -> 2.179599 | C20: =((C14+C13)/C16)*100 -> 1.480458 | D20: =((D14+D13)/D16)*100 -> 0.74508246 | E20: =((E14+E13)/E16)*100 -> 0.072069648 | F20: =((F14+F13)/F16)*100 -> 0.036609296
A21: [ D / F x 100 ]
A23: H. Cash Break Even | B23: =((B14/B16)*100) -> 2.179599 | C23: =((C14/C16)*100) -> 1.480458 | D23: =((D14/D16)*100) -> 0.74508246 | E23: =((E14/E16)*100) -> 0.072069648 | F23: =((F14/F16)*100) -> 0.036609296
A24: [ Without Depreciation]

Sheet Annex  ROI
A1: =#REF! -> #REF!
A2: ANNEXURE NO.5
A4: ANALYSIS OF RETURN ON INVESTMENT : | F4: In Dollars
A5: (A HDPE/PP Fabrics Project)
A6: 1. Return on Investment = | B6: Average Return x 100
B7: Capital Employed
A9: 2. Return = | B9: Profit before tax + Depreciation + Interest on term loan
A11: 3. Capital Employed = | B11: Cost of the Project
A13: RETURN ON INVESTMENT :
A15: PARTICULARS | B15: O P E R T I N G Y E A R S
B16: 1 | C16: 2 | D16: 3 | E16: 4 | F16: 5
A17: Profit before tax | B17: =+profit!B49 -> 1676500 | C17: =+profit!C49 -> 23139750 | D17: =+profit!D49 -> 83924688 | E17: =+profit!E49 -> 3.1740586e+08 | F17: =+profit!F49 -> 7.9050732e+08
A19: Depreciation | B19: =+profit!B55 -> 543500 | C19: =+profit!C55 -> 815250 | D19: =+profit!D55 -> 1019062.5 | E19: =+profit!E55 -> 1273828.1 | F19: =+profit!F55 -> 1592285.2
B23: =SUM(B17:B21) -> 2220000 | C23: =SUM(C17:C21) -> 23955000 | D23: =SUM(D17:D21) -> 84943750 | E23: =SUM(E17:E21) -> 3.1867969e+08 | F23: =SUM(F17:F21) -> 7.9209961e+08
A27: # Average Return | B27: =SUM(B23:F23)/5 -> 2.4437961e+08
A29: # Capital Employed | B29: =Cost!C22 -> 14500000
A31: # Return on Investment | B31: =+(B27/B29)*100 -> 1685.3766 | C31: %

Sheet Assumptions
A1: ='PROJECT AT GLANCE'!D4 -> TRESBIZZ
A2: ANNEXURE NO.
A3: Assumption and workings notes to the Financial Statements of the Project Report:
A6: * | B6: All Expesnes except Tarvelling Expenses has been increased by 10%
A7: * | B7: Travelling Expenses from second year has been cut down by 50% & thereafter increase by 10% every year
A8: * | B8: Income Tax is assumed to be 25%
A9: * | B9: Depreciation for Computer & equipment is taken 15%, Furniture & fittings is 10%, Brand Copy Right is 25%
A10: * | B10: Income Tax provision created & paid in same year
